Workbook

Sheet METHODOLOGY
B2: PROJECT NAME
B3: PROJECT MANAGER | D3: email address | G3: INTEREST
B4: Project Risk Posture | C4: Low | D4: (CHOOSE FROM THE DROPDOWN ON THE LEFT) | F4: PROBABILITY | G4: MEDIUM | H4: MEDIUM | I4: MEDIUM | J4: HIGH | K4: HIGH | M4: LOW
D5: Low posture = Pay close attention to risk (LOTS TO LOSE) | G5: LOW | H5: MEDIUM | I5: MEDIUM | J5: HIGH | K5: HIGH | M5: MEDIUM
D6: Moderate posture = Normal - just pay attention
D7: High posture = Highly acceptable to risk | G7: LOW | H7: MEDIUM | I7: MEDIUM | J7: MEDIUM | K7: HIGH | M7: HIGH
B8: PROBABILTIY | C8: SCORE | G8: LOW | H8: MEDIUM | I8: MEDIUM | J8: MEDIUM | K8: HIGH
B9: VERY HIGH | C9: 5 | D9: > than 90% | G9: LOW | H9: LOW | I9: LOW | J9: LOW | K9: MEDIUM
B10: HIGH | C10: 4 | D10: > 70% < 90%
B11: MEDIUM | C11: 3 | D11: > 50% < 70% | G11: RISK TOLERANCE MAP: LOW | M11: Organizational Risk Posture
B12: LOW | C12: 2 | D12: > 30% < 70% | G12: ±1 | H12: ±2 | I12: ±3 | J12: ±4 | K12: ±5 | M12: Low
B13: VERY LOW | C13: 1 | D13: < 30% | F13: 5 | G13: MEDIUM | H13: MEDIUM | I13: HIGH | J13: HIGH | K13: HIGH | M13: Moderate
F14: 4 | G14: MEDIUM | H14: MEDIUM | I14: HIGH | J14: HIGH | K14: HIGH | M14: High
B15: ACTIONS | F15: 3 | G15: MEDIUM | H15: MEDIUM | I15: HIGH | J15: HIGH | K15: HIGH
B16: VERY HIGH | C16: Immediately elevate to senior leadership, implement active mitigation measures, and monitor continuously with frequent status reviews and trigger tracking. | F16: 2 | G16: LOW | H16: MEDIUM | I16: MEDIUM | J16: HIGH | K16: HIGH | M16: Risk Status
B17: HIGH | C17: Implement defined mitigation actions, and review regularly with scheduled monitoring and trigger checks. | F17: 1 | G17: LOW | H17: LOW | I17: MEDIUM | J17: MEDIUM | K17: HIGH | M17: On Track
B18: MEDIUM | C18: Track through normal project reporting cycles, confirm assumptions periodically, and prepare contingency actions if conditions begin to change. | M18: Watch
B19: LOW | C19: Document and monitor during routine project reviews with no immediate mitigation required. | G19: RISK TOLERANCE MAP: MODERATE | M19: Action Required
B20: VERY LOW | C20: Record for awareness and reassess only if project conditions change or new information emerges. | G20: ±1 | H20: ±2 | I20: ±3 | J20: ±4 | K20: ±5
F21: 5 | G21: =G4 -> MEDIUM | H21: =H4 -> MEDIUM | I21: =I4 -> MEDIUM | J21: =J4 -> HIGH | K21: =K4 -> HIGH
B22: RISK CATEGORY | C22: SCORE | F22: 4 | G22: =G5 -> LOW | H22: =H5 -> MEDIUM | I22: =I5 -> MEDIUM | J22: =J5 -> HIGH | K22: =K5 -> HIGH | M22: Risk Response
B23: TECHNICAL | C23: NA | D23: Systems, Technology, Integration, Quality | F23: 3 | G23: =G7 -> LOW | H23: =H7 -> MEDIUM | I23: =I7 -> MEDIUM | J23: =J7 -> MEDIUM | K23: =K7 -> HIGH | M23: Remove
B24: SCHEDULE | C24: NA | D24: Timeline, Delays, Dependencies, Milestones | F24: 2 | G24: =G8 -> LOW | H24: =H8 -> MEDIUM | I24: =I8 -> MEDIUM | J24: =J8 -> MEDIUM | K24: =K8 -> HIGH | M24: Offload
B25: COST | C25: NA | D25: Budget, Funding, Inflation, Cash Flow | F25: 1 | G25: =G9 -> LOW | H25: =H9 -> LOW | I25: =I9 -> LOW | J25: =J9 -> LOW | K25: =K9 -> MEDIUM | M25: Control
B26: ORGANIZATIONAL | C26: NA | D26: People, Governance, Roles, Culture | G26: RISK POSTURE | H26: =COUNTIF(G21:K25,"LOW")*1 + COUNTIF(G21:K25,"MEDIUM")*2 + COUNTIF(G21:K25,"HIGH")*3 -> 49 | M26: Own
B27: RESOURCE | C27: NA | D27: Staffing, Equipment, Materials, Capacity
B28: EXTERNAL | C28: NA | D28: Regulation, Market, Weather, Geopolitical Events | G28: RISK TOLERANCE MAP: HIGH
G29: ±1 | H29: ±2 | I29: ±3 | J29: ±4 | K29: ±5
B30: IMPACT ON ORG | C30: SCORE | F30: 5 | G30: MEDIUM | H30: MEDIUM | I30: HIGH | J30: HIGH | K30: HIGH
B31: POSITIVE | C31: NA | D31: Benefits the organization | F31: 4 | G31: MEDIUM | H31: MEDIUM | I31: HIGH | J31: HIGH | K31: HIGH
B32: NEGATIVE | C32: NA | D32: Negatively affects the organization | F32: 3 | G32: MEDIUM | H32: MEDIUM | I32: MEDIUM | J32: HIGH | K32: HIGH
F33: 2 | G33: LOW | H33: MEDIUM | I33: MEDIUM | J33: HIGH | K33: HIGH
B34: TIME | C34: SCORE | F34: 1 | G34: LOW | H34: LOW | I34: MEDIUM | J34: MEDIUM | K34: HIGH
B35: VERY HIGH | C35: 5 | D35: > 50% | G35: RISK POSTURE | H35: =COUNTIF(G30:K34,"LOW")*1 + COUNTIF(G30:K34,"MEDIUM")*2 + COUNTIF(G30:K34,"HIGH")*3 -> 58
B36: HIGH | C36: 4 | D36: > 25% but < 50%
B37: MODERATE | C37: 3 | D37: > 10% but < 25%
B38: LOW | C38: 2 | D38: > 5% but < 10%
B39: VERY LOW | C39: 1 | D39: < 5%
B40: NONE | C40: 0 | D40: NO IMPACT
B42: BUDGET | C42: SCORE
...

Sheet RISK REGISTER
A1: RISK ID | B1: RISK DESCRIPTION | C1: RISK CATEGORY | D1: POS/NEG | E1: TRIGGER EVENT MAX COST | F1: TRIGGER EVENTS TOTAL COST | G1: RESPONSE STRATEGY | H1: RISK OWNER | I1: NEXT REVIEW DATE D/M/Y (EDITABLE) | J1: RISK RESPONSE (EDITABLE) | K1: RISK STATUS (EDITABLE)
A2: ='Risk 1'!B2 -> 1 | B2: ='Risk 1'!D2 -> 0 | C2: ='Risk 1'!E2 -> 0 | D2: ='Risk 1'!F2 -> 0 | E2: =MAX('Risk 1'!K5:K20) -> 0 | F2: =SUM('Risk 1'!K5:K20) -> 0 | G2: =IF('Risk 1'!P2="","",'Risk 1'!P2) | H2: ='Risk 1'!C2 -> 0 | I2: 46101
A3: ='Risk 2'!B2 -> 2 | B3: ='Risk 2'!D2 -> 0 | C3: ='Risk 2'!E2 -> 0 | D3: ='Risk 2'!F2 -> 0 | E3: =MAX('Risk 2'!K5:K20) -> 0 | F3: =SUM('Risk 2'!K5:K20) -> 0 | G3: =IF('Risk 2'!P2="","",'Risk 1'!P2) | H3: ='Risk 2'!C2 -> 0
A4: ='Risk 3'!B2 -> 3 | B4: ='Risk 3'!D2 -> 0 | C4: ='Risk 3'!E2 -> 0 | D4: ='Risk 3'!F2 -> 0 | E4: =MAX('Risk 3'!K5:K20) -> 0 | F4: =SUM('Risk 3'!K5:K20) -> 0 | G4: =IF('Risk 3'!P2="","",'Risk 1'!P2) | H4: ='Risk 3'!C2 -> 0
A5: ='Risk 4'!B2 -> 4 | B5: ='Risk 4'!D2 -> 0 | C5: ='Risk 4'!E2 -> 0 | D5: ='Risk 4'!F2 -> 0 | E5: =MAX('Risk 4'!K5:K20) -> 0 | F5: =SUM('Risk 4'!K5:K20) -> 0 | G5: =IF('Risk 4'!P2="","",'Risk 1'!P2) | H5: ='Risk 4'!C2 -> 0
A6: ='Risk 5'!B2 -> 5 | B6: ='Risk 5'!D2 -> 0 | C6: ='Risk 5'!E2 -> 0 | D6: ='Risk 5'!F2 -> 0 | E6: =MAX('Risk 5'!K5:K20) -> 0 | F6: =SUM('Risk 5'!K5:K20) -> 0 | G6: =IF('Risk 5'!P2="","",'Risk 1'!P2) | H6: ='Risk 5'!C2 -> 0
A7: ='Risk 6'!B2 -> 6 | B7: ='Risk 6'!D2 -> 0 | C7: ='Risk 6'!E2 -> 0 | D7: ='Risk 6'!F2 -> 0 | E7: =MAX('Risk 6'!K5:K20) -> 0 | F7: =SUM('Risk 6'!K5:K20) -> 0 | G7: =IF('Risk 6'!P2="","",'Risk 1'!P2) | H7: ='Risk 6'!C2 -> 0
A8: ='Risk 7'!B2 -> 7 | B8: ='Risk 7'!D2 -> 0 | C8: ='Risk 7'!E2 -> 0 | D8: ='Risk 7'!F2 -> 0 | E8: =MAX('Risk 7'!K5:K20) -> 0 | F8: =SUM('Risk 7'!K5:K20) -> 0 | G8: =IF('Risk 7'!P2="","",'Risk 1'!P2) | H8: ='Risk 7'!C2 -> 0
A9: ='Risk 8'!B2 -> 8 | B9: ='Risk 8'!D2 -> 0 | C9: ='Risk 8'!E2 -> 0 | D9: ='Risk 8'!F2 -> 0 | E9: =MAX('Risk 8'!K5:K20) -> 0 | F9: =SUM('Risk 8'!K5:K20) -> 0 | G9: =IF('Risk 8'!P2="","",'Risk 1'!P2) | H9: ='Risk 8'!C2 -> 0
A10: ='Risk 9'!B2 -> 9 | B10: ='Risk 9'!D2 -> 0 | C10: ='Risk 9'!E2 -> 0 | D10: ='Risk 9'!F2 -> 0 | E10: =MAX('Risk 9'!K5:K20) -> 0 | F10: =SUM('Risk 9'!K5:K20) -> 0 | G10: =IF('Risk 9'!P2="","",'Risk 1'!P2) | H10: ='Risk 9'!C2 -> 0
A11: ='Risk 10'!B2 -> 10 | B11: ='Risk 10'!D2 -> 0 | C11: ='Risk 10'!E2 -> 0 | D11: ='Risk 10'!F2 -> 0 | E11: =MAX('Risk 10'!K5:K20) -> 0 | F11: =SUM('Risk 10'!K5:K20) -> 0 | G11: =IF('Risk 10'!P2="","",'Risk 1'!P2) | H11: ='Risk 10'!C2 -> 0
A12: ='Risk 11'!B2 -> 11 | B12: ='Risk 11'!D2 -> 0 | C12: ='Risk 11'!E2 -> 0 | D12: ='Risk 11'!F2 -> 0 | E12: =MAX('Risk 11'!K5:K20) -> 0 | F12: =SUM('Risk 11'!K5:K20) -> 0 | G12: =IF('Risk 11'!P2="","",'Risk 1'!P2) | H12: ='Risk 11'!C2 -> 0
A13: ='Risk 12'!B2 -> 12 | B13: ='Risk 12'!D2 -> 0 | C13: ='Risk 12'!E2 -> 0 | D13: ='Risk 12'!F2 -> 0 | E13: =MAX('Risk 12'!K5:K20) -> 0 | F13: =SUM('Risk 12'!K5:K20) -> 0 | G13: =IF('Risk 12'!P2="","",'Risk 1'!P2) | H13: ='Risk 12'!C2 -> 0
A14: ='Risk 13'!B2 -> 13 | B14: ='Risk 13'!D2 -> 0 | C14: ='Risk 13'!E2 -> 0 | D14: ='Risk 13'!F2 -> 0 | E14: =MAX('Risk 13'!K5:K20) -> 0 | F14: =SUM('Risk 13'!K5:K20) -> 0 | G14: =IF('Risk 13'!P2="","",'Risk 1'!P2) | H14: ='Risk 13'!C2 -> 0
A15: ='Risk 14'!B2 -> 14 | B15: ='Risk 14'!D2 -> 0 | C15: ='Risk 14'!E2 -> 0 | D15: ='Risk 14'!F2 -> 0 | E15: =MAX('Risk 14'!K5:K20) -> 0 | F15: =SUM('Risk 14'!K5:K20) -> 0 | G15: =IF('Risk 14'!P2="","",'Risk 1'!P2) | H15: ='Risk 14'!C2 -> 0
A16: ='Risk 15'!B2 -> 15 | B16: ='Risk 15'!D2 -> 0 | C16: ='Risk 15'!E2 -> 0 | D16: ='Risk 15'!F2 -> 0 | E16: =MAX('Risk 15'!K5:K20) -> 0 | F16: =SUM('Risk 15'!K5:K20) -> 0 | G16: =IF('Risk 15'!P2="","",'Risk 1'!P2) | H16: ='Risk 15'!C2 -> 0
A17: ='Risk 16'!B2 -> 16 | B17: ='Risk 16'!D2 -> 0 | C17: ='Risk 16'!E2 -> 0 | D17: ='Risk 16'!F2 -> 0 | E17: =MAX('Risk 16'!K5:K20) -> 0 | F17: =SUM('Risk 16'!K5:K20) -> 0 | G17: =IF('Risk 16'!P2="","",'Risk 1'!P2) | H17: ='Risk 16'!C2 -> 0
A18: ='Risk 17'!B2 -> 17 | B18: ='Risk 17'!D2 -> 0 | C18: ='Risk 17'!E2 -> 0 | D18: ='Risk 17'!F2 -> 0 | E18: =MAX('Risk 17'!K5:K20) -> 0 | F18: =SUM('Risk 17'!K5:K20) -> 0 | G18: =IF('Risk 17'!P2="","",'Risk 1'!P2) | H18: ='Risk 17'!C2 -> 0
A19: ='Risk 18'!B2 -> 18 | B19: ='Risk 18'!D2 -> 0 | C19: ='Risk 18'!E2 -> 0 | D19: ='Risk 18'!F2 -> 0 | E19: =MAX('Risk 18'!K5:K20) -> 0 | F19: =SUM('Risk 18'!K5:K20) -> 0 | G19: =IF('Risk 18'!P2="","",'Risk 1'!P2) | H19: ='Risk 18'!C2 -> 0
A20: ='Risk 19'!B2 -> 19 | B20: ='Risk 19'!D2 -> 0 | C20: ='Risk 19'!E2 -> 0 | D20: ='Risk 19'!F2 -> 0 | E20: =MAX('Risk 19'!K5:K20) -> 0 | F20: =SUM('Risk 19'!K5:K20) -> 0 | G20: =IF('Risk 19'!P2="","",'Risk 1'!P2) | H20: ='Risk 19'!C2 -> 0
A21: ='Risk 20'!B2 -> 20 | B21: ='Risk 20'!D2 -> 0 | C21: ='Risk 20'!E2 -> 0 | D21: ='Risk 20'!F2 -> 0 | E21: =MAX('Risk 20'!K5:K20) -> 0 | F21: =SUM('Risk 20'!K5:K20) -> 0 | G21: =IF('Risk 20'!P2="","",'Risk 1'!P2) | H21: ='Risk 20'!C2 -> 0
A22: ='Risk 21'!B2 -> 21 | B22: ='Risk 21'!D2 -> 0 | C22: ='Risk 21'!E2 -> 0 | D22: ='Risk 21'!F2 -> 0 | E22: =MAX('Risk 21'!K5:K20) -> 0 | F22: =SUM('Risk 21'!K5:K20) -> 0 | G22: =IF('Risk 21'!P2="","",'Risk 1'!P2) | H22: ='Risk 21'!C2 -> 0
A23: ='Risk 22'!B2 -> 22 | B23: ='Risk 22'!D2 -> 0 | C23: ='Risk 22'!E2 -> 0 | D23: ='Risk 22'!F2 -> 0 | E23: =MAX('Risk 22'!K5:K20) -> 0 | F23: =SUM('Risk 22'!K5:K20) -> 0 | G23: =IF('Risk 22'!P2="","",'Risk 1'!P2) | H23: ='Risk 22'!C2 -> 0
A24: ='Risk 23'!B2 -> 23 | B24: ='Risk 23'!D2 -> 0 | C24: ='Risk 23'!E2 -> 0 | D24: ='Risk 23'!F2 -> 0 | E24: =MAX('Risk 23'!K5:K20) -> 0 | F24: =SUM('Risk 23'!K5:K20) -> 0 | G24: =IF('Risk 23'!P2="","",'Risk 1'!P2) | H24: ='Risk 23'!C2 -> 0
A25: ='Risk 24'!B2 -> 24 | B25: ='Risk 24'!D2 -> 0 | C25: ='Risk 24'!E2 -> 0 | D25: ='Risk 24'!F2 -> 0 | E25: =MAX('Risk 24'!K5:K20) -> 0 | F25: =SUM('Risk 24'!K5:K20) -> 0 | G25: =IF('Risk 24'!P2="","",'Risk 1'!P2) | H25: ='Risk 24'!C2 -> 0
A26: ='Risk 25'!B2 -> 25 | B26: ='Risk 25'!D2 -> 0 | C26: ='Risk 25'!E2 -> 0 | D26: ='Risk 25'!F2 -> 0 | E26: =MAX('Risk 25'!K5:K20) -> 0 | F26: =SUM('Risk 25'!K5:K20) -> 0 | G26: =IF('Risk 25'!P2="","",'Risk 1'!P2) | H26: ='Risk 25'!C2 -> 0
A27: ='Risk 26'!B2 -> 26 | B27: ='Risk 26'!D2 -> 0 | C27: ='Risk 26'!E2 -> 0 | D27: ='Risk 26'!F2 -> 0 | E27: =MAX('Risk 26'!K5:K20) -> 0 | F27: =SUM('Risk 26'!K5:K20) -> 0 | G27: =IF('Risk 26'!P2="","",'Risk 1'!P2) | H27: ='Risk 26'!C2 -> 0
A28: ='Risk 27'!B2 -> 27 | B28: ='Risk 27'!D2 -> 0 | C28: ='Risk 27'!E2 -> 0 | D28: ='Risk 27'!F2 -> 0 | E28: =MAX('Risk 27'!K5:K20) -> 0 | F28: =SUM('Risk 27'!K5:K20) -> 0 | G28: =IF('Risk 27'!P2="","",'Risk 1'!P2) | H28: ='Risk 27'!C2 -> 0
A29: ='Risk 28'!B2 -> 28 | B29: ='Risk 28'!D2 -> 0 | C29: ='Risk 28'!E2 -> 0 | D29: ='Risk 28'!F2 -> 0 | E29: =MAX('Risk 28'!K5:K20) -> 0 | F29: =SUM('Risk 28'!K5:K20) -> 0 | G29: =IF('Risk 28'!P2="","",'Risk 1'!P2) | H29: ='Risk 28'!C2 -> 0
A30: ='Risk 29'!B2 -> 29 | B30: ='Risk 29'!D2 -> 0 | C30: ='Risk 29'!E2 -> 0 | D30: ='Risk 29'!F2 -> 0 | E30: =MAX('Risk 29'!K5:K20) -> 0 | F30: =SUM('Risk 29'!K5:K20) -> 0 | G30: =IF('Risk 29'!P2="","",'Risk 1'!P2) | H30: ='Risk 29'!C2 -> 0
A31: ='Risk 30'!B2 -> 30 | B31: ='Risk 30'!D2 -> 0 | C31: ='Risk 30'!E2 -> 0 | D31: ='Risk 30'!F2 -> 0 | E31: =MAX('Risk 30'!K5:K20) -> 0 | F31: =SUM('Risk 30'!K5:K20) -> 0 | G31: =IF('Risk 30'!P2="","",'Risk 1'!P2) | H31: ='Risk 30'!C2 -> 0

Sheet Risk 1
B1: ID # | C1: Risk Owner | D1: RISK DESCRIPTION | E1: RISK CATEGORY | F1: POS / NEG | G1: PROBABILITY | H1: SCOPE IMPACT | I1: BUDGET IMPACT | J1: TIME IMPACT | K1: OPERATIONS IMPACT | L1: HEALTH AND SAFETY IMPACT | M1: NATURAL ENVIRONMENT IMPACT | N1: BRAND AND REPUTATION IMPACT | O1: OVERALL RISK SCORE | P1: NOTES / Response Strategy
B2: 1 | O2: =IF(S4="LOW", IF(S12<4,"LOW",IF(S12<=15,"MODERATE","HIGH")), IF(S4="MODERATE", IF(S12<11,"LOW",IF(S12<=18,"MODERATE","HIGH")), IF(S4="HIGH", IF(S12<15,"LOW",IF(S12<=20,"MODERATE","HIGH")), ""))) -> LOW
B4: ID # | C4: TRIGGER OWNER | D4: TRIGGER EVENTS | H4: PROBABILITY | I4: % Occurance | J4: Cost | K4: Estimated Value | L4: Last Review D/M/YEAR | M4: Trigger Owner | N4: Action | O4: NOTES | R4: Overall Risk Posture | S4: =METHODOLOGY!C4 -> Low
I5: 0 | J5: 0 | K5: =I5*J5 -> 0 | N5: =IF(H5="VERY HIGH",R14, IF(H5="HIGH",R15, IF(H5="MEDIUM",R16, IF(H5="LOW",R17, IF(H5="VERY LOW",R18,""))))) | R5: SCOPE IMPACT SCORE | S5: =IF(H2="VERY HIGH",5,IF(H2="HIGH",4,IF(H2="MODERATE",3,IF(H2="LOW",2,IF(H2="VERY LOW",1,"")))))
N6: =IF(H6="VERY HIGH",R14, IF(H6="HIGH",R15, IF(H6="MEDIUM",R16, IF(H6="LOW",R17, IF(H6="VERY LOW",R18,""))))) | R6: BUDGET IMPACT SCORE | S6: =IF(I2="VERY HIGH",5,IF(I2="HIGH",4,IF(I2="MODERATE",3,IF(I2="LOW",2,IF(I2="VERY LOW",1,"")))))
N7: =IF(H7="VERY HIGH",R14, IF(H7="HIGH",R15, IF(H7="MEDIUM",R16, IF(H7="LOW",R17, IF(H7="VERY LOW",R18,""))))) | R7: TIME IMPACT SCORE | S7: =IF(J2="VERY HIGH",5,IF(J2="HIGH",4,IF(J2="MODERATE",3,IF(J2="LOW",2,IF(J2="VERY LOW",1,"")))))
N8: =IF(H8="VERY HIGH",R14, IF(H8="HIGH",R15, IF(H8="MEDIUM",R16, IF(H8="LOW",R17, IF(H8="VERY LOW",R18,""))))) | R8: OPERATIONS IMPACT SCORE | S8: =IF(K2="VERY HIGH",5,IF(K2="HIGH",4,IF(K2="MODERATE",3,IF(K2="LOW",2,IF(K2="VERY LOW",1,"")))))
I9: =IF(H9="VERY HIGH",R17, IF(H9="HIGH",R18, IF(H9="MEDIUM",R19, IF(H9="LOW",R20, IF(H9="VERY LOW",R21,""))))) | R9: HEALTH SAFETY IMPACT SCORE | S9: =IF(L2="VERY HIGH",5,IF(L2="HIGH",4,IF(L2="MODERATE",3,IF(L2="LOW",2,IF(L2="VERY LOW",1,"")))))
I10: =IF(H10="VERY HIGH",R17, IF(H10="HIGH",R18, IF(H10="MEDIUM",R19, IF(H10="LOW",R20, IF(H10="VERY LOW",R21,""))))) | R10: NATURAL ENVIRONMENT IMPACT SCORE | S10: =IF(M2="VERY HIGH",5,IF(M2="HIGH",4,IF(M2="MODERATE",3,IF(M2="LOW",2,IF(M2="VERY LOW",1,"")))))
R11: BRAND AND REP IMPACT SCORE | S11: =IF(N2="VERY HIGH",5,IF(N2="HIGH",4,IF(N2="MODERATE",3,IF(N2="LOW",2,IF(N2="VERY LOW",1,"")))))
R12: RISK SUM | S12: =SUM(S5:S11) -> 0
R13: ACTIONS
R14: =METHODOLOGY!C16 -> Immediately elevate to senior leadership, implement active mitigation measures, and monitor continuously with frequent status reviews and trigger tracking.
R15: =METHODOLOGY!C17 -> Implement defined mitigation actions, and review regularly with scheduled monitoring and trigger checks.
R16: =METHODOLOGY!C18 -> Track through normal project reporting cycles, confirm assumptions periodically, and prepare contingency actions if conditions begin to change.
R17: =METHODOLOGY!C19 -> Document and monitor during routine project reviews with no immediate mitigation required.
R18: =METHODOLOGY!C20 -> Record for awareness and reassess only if project conditions change or new information emerges.

Sheet Risk 2
B1: ID # | C1: Risk Owner | D1: RISK DESCRIPTION | E1: RISK CATEGORY | F1: POS / NEG | G1: PROBABILITY | H1: SCOPE IMPACT | I1: BUDGET IMPACT | J1: TIME IMPACT | K1: OPERATIONS IMPACT | L1: HEALTH AND SAFETY IMPACT | M1: NATURAL ENVIRONMENT IMPACT | N1: BRAND AND REPUTATION IMPACT | O1: OVERALL RISK SCORE | P1: NOTES / Response Strategy
B2: 2 | O2: =IF(S4="LOW", IF(S12<4,"LOW",IF(S12<=15,"MODERATE","HIGH")), IF(S4="MODERATE", IF(S12<11,"LOW",IF(S12<=18,"MODERATE","HIGH")), IF(S4="HIGH", IF(S12<15,"LOW",IF(S12<=20,"MODERATE","HIGH")), ""))) -> LOW
B4: ID # | C4: TRIGGER OWNER | D4: TRIGGER EVENTS | H4: PROBABILITY | I4: % Occurance | J4: Cost | K4: Estimated Value | L4: Last Review D/M/YEAR | M4: Trigger Owner | N4: Action | O4: NOTES | R4: Overall Risk Posture | S4: =METHODOLOGY!C4 -> Low
H5: MEDIUM | I5: 0 | J5: 0 | K5: =I5*J5 -> 0 | N5: =IF(H5="VERY HIGH",R14, IF(H5="HIGH",R15, IF(H5="MEDIUM",R16, IF(H5="LOW",R17, IF(H5="VERY LOW",R18,""))))) -> Track through normal project reporting cycles, confirm assumptions periodically, and prepare contingency actions if conditions begin to change. | R5: SCOPE IMPACT SCORE | S5: =IF(H2="VERY HIGH",5,IF(H2="HIGH",4,IF(H2="MODERATE",3,IF(H2="LOW",2,IF(H2="VERY LOW",1,"")))))
N6: =IF(H6="VERY HIGH",R14, IF(H6="HIGH",R15, IF(H6="MEDIUM",R16, IF(H6="LOW",R17, IF(H6="VERY LOW",R18,""))))) | R6: BUDGET IMPACT SCORE | S6: =IF(I2="VERY HIGH",5,IF(I2="HIGH",4,IF(I2="MODERATE",3,IF(I2="LOW",2,IF(I2="VERY LOW",1,"")))))
N7: =IF(H7="VERY HIGH",R14, IF(H7="HIGH",R15, IF(H7="MEDIUM",R16, IF(H7="LOW",R17, IF(H7="VERY LOW",R18,""))))) | R7: TIME IMPACT SCORE | S7: =IF(J2="VERY HIGH",5,IF(J2="HIGH",4,IF(J2="MODERATE",3,IF(J2="LOW",2,IF(J2="VERY LOW",1,"")))))
N8: =IF(H8="VERY HIGH",R14, IF(H8="HIGH",R15, IF(H8="MEDIUM",R16, IF(H8="LOW",R17, IF(H8="VERY LOW",R18,""))))) | R8: OPERATIONS IMPACT SCORE | S8: =IF(K2="VERY HIGH",5,IF(K2="HIGH",4,IF(K2="MODERATE",3,IF(K2="LOW",2,IF(K2="VERY LOW",1,"")))))
I9: =IF(H9="VERY HIGH",R17, IF(H9="HIGH",R18, IF(H9="MEDIUM",R19, IF(H9="LOW",R20, IF(H9="VERY LOW",R21,""))))) | R9: HEALTH SAFETY IMPACT SCORE | S9: =IF(L2="VERY HIGH",5,IF(L2="HIGH",4,IF(L2="MODERATE",3,IF(L2="LOW",2,IF(L2="VERY LOW",1,"")))))
I10: =IF(H10="VERY HIGH",R17, IF(H10="HIGH",R18, IF(H10="MEDIUM",R19, IF(H10="LOW",R20, IF(H10="VERY LOW",R21,""))))) | R10: NATURAL ENVIRONMENT IMPACT SCORE | S10: =IF(M2="VERY HIGH",5,IF(M2="HIGH",4,IF(M2="MODERATE",3,IF(M2="LOW",2,IF(M2="VERY LOW",1,"")))))
R11: BRAND AND REP IMPACT SCORE | S11: =IF(N2="VERY HIGH",5,IF(N2="HIGH",4,IF(N2="MODERATE",3,IF(N2="LOW",2,IF(N2="VERY LOW",1,"")))))
R12: RISK SUM | S12: =SUM(S5:S11) -> 0
R13: ACTIONS
R14: =METHODOLOGY!C16 -> Immediately elevate to senior leadership, implement active mitigation measures, and monitor continuously with frequent status reviews and trigger tracking.
R15: =METHODOLOGY!C17 -> Implement defined mitigation actions, and review regularly with scheduled monitoring and trigger checks.
R16: =METHODOLOGY!C18 -> Track through normal project reporting cycles, confirm assumptions periodically, and prepare contingency actions if conditions begin to change.
R17: =METHODOLOGY!C19 -> Document and monitor during routine project reviews with no immediate mitigation required.
R18: =METHODOLOGY!C20 -> Record for awareness and reassess only if project conditions change or new information emerges.

Sheet Risk 3
B1: ID # | C1: Risk Owner | D1: RISK DESCRIPTION | E1: RISK CATEGORY | F1: POS / NEG | G1: PROBABILITY | H1: SCOPE IMPACT | I1: BUDGET IMPACT | J1: TIME IMPACT | K1: OPERATIONS IMPACT | L1: HEALTH AND SAFETY IMPACT | M1: NATURAL ENVIRONMENT IMPACT | N1: BRAND AND REPUTATION IMPACT | O1: OVERALL RISK SCORE | P1: NOTES / Response Strategy
B2: 3 | O2: =IF(S4="LOW", IF(S12<4,"LOW",IF(S12<=15,"MODERATE","HIGH")), IF(S4="MODERATE", IF(S12<11,"LOW",IF(S12<=18,"MODERATE","HIGH")), IF(S4="HIGH", IF(S12<15,"LOW",IF(S12<=20,"MODERATE","HIGH")), ""))) -> LOW
B4: ID # | C4: TRIGGER OWNER | D4: TRIGGER EVENTS | H4: PROBABILITY | I4: % Occurance | J4: Cost | K4: Estimated Value | L4: Last Review D/M/YEAR | M4: Trigger Owner | N4: Action | O4: NOTES | R4: Overall Risk Posture | S4: =METHODOLOGY!C4 -> Low
H5: MEDIUM | I5: 0 | J5: 0 | K5: =I5*J5 -> 0 | N5: =IF(H5="VERY HIGH",R14, IF(H5="HIGH",R15, IF(H5="MEDIUM",R16, IF(H5="LOW",R17, IF(H5="VERY LOW",R18,""))))) -> Track through normal project reporting cycles, confirm assumptions periodically, and prepare contingency actions if conditions begin to change. | R5: SCOPE IMPACT SCORE | S5: =IF(H2="VERY HIGH",5,IF(H2="HIGH",4,IF(H2="MODERATE",3,IF(H2="LOW",2,IF(H2="VERY LOW",1,"")))))
N6: =IF(H6="VERY HIGH",R14, IF(H6="HIGH",R15, IF(H6="MEDIUM",R16, IF(H6="LOW",R17, IF(H6="VERY LOW",R18,""))))) | R6: BUDGET IMPACT SCORE | S6: =IF(I2="VERY HIGH",5,IF(I2="HIGH",4,IF(I2="MODERATE",3,IF(I2="LOW",2,IF(I2="VERY LOW",1,"")))))
N7: =IF(H7="VERY HIGH",R14, IF(H7="HIGH",R15, IF(H7="MEDIUM",R16, IF(H7="LOW",R17, IF(H7="VERY LOW",R18,""))))) | R7: TIME IMPACT SCORE | S7: =IF(J2="VERY HIGH",5,IF(J2="HIGH",4,IF(J2="MODERATE",3,IF(J2="LOW",2,IF(J2="VERY LOW",1,"")))))
N8: =IF(H8="VERY HIGH",R14, IF(H8="HIGH",R15, IF(H8="MEDIUM",R16, IF(H8="LOW",R17, IF(H8="VERY LOW",R18,""))))) | R8: OPERATIONS IMPACT SCORE | S8: =IF(K2="VERY HIGH",5,IF(K2="HIGH",4,IF(K2="MODERATE",3,IF(K2="LOW",2,IF(K2="VERY LOW",1,"")))))
I9: =IF(H9="VERY HIGH",R17, IF(H9="HIGH",R18, IF(H9="MEDIUM",R19, IF(H9="LOW",R20, IF(H9="VERY LOW",R21,""))))) | R9: HEALTH SAFETY IMPACT SCORE | S9: =IF(L2="VERY HIGH",5,IF(L2="HIGH",4,IF(L2="MODERATE",3,IF(L2="LOW",2,IF(L2="VERY LOW",1,"")))))
I10: =IF(H10="VERY HIGH",R17, IF(H10="HIGH",R18, IF(H10="MEDIUM",R19, IF(H10="LOW",R20, IF(H10="VERY LOW",R21,""))))) | R10: NATURAL ENVIRONMENT IMPACT SCORE | S10: =IF(M2="VERY HIGH",5,IF(M2="HIGH",4,IF(M2="MODERATE",3,IF(M2="LOW",2,IF(M2="VERY LOW",1,"")))))
R11: BRAND AND REP IMPACT SCORE | S11: =IF(N2="VERY HIGH",5,IF(N2="HIGH",4,IF(N2="MODERATE",3,IF(N2="LOW",2,IF(N2="VERY LOW",1,"")))))
R12: RISK SUM | S12: =SUM(S5:S11) -> 0
R13: ACTIONS
R14: =METHODOLOGY!C16 -> Immediately elevate to senior leadership, implement active mitigation measures, and monitor continuously with frequent status reviews and trigger tracking.
R15: =METHODOLOGY!C17 -> Implement defined mitigation actions, and review regularly with scheduled monitoring and trigger checks.
R16: =METHODOLOGY!C18 -> Track through normal project reporting cycles, confirm assumptions periodically, and prepare contingency actions if conditions begin to change.
R17: =METHODOLOGY!C19 -> Document and monitor during routine project reviews with no immediate mitigation required.
R18: =METHODOLOGY!C20 -> Record for awareness and reassess only if project conditions change or new information emerges.

Sheet Risk 4
B1: ID # | C1: Risk Owner | D1: RISK DESCRIPTION | E1: RISK CATEGORY | F1: POS / NEG | G1: PROBABILITY | H1: SCOPE IMPACT | I1: BUDGET IMPACT | J1: TIME IMPACT | K1: OPERATIONS IMPACT | L1: HEALTH AND SAFETY IMPACT | M1: NATURAL ENVIRONMENT IMPACT | N1: BRAND AND REPUTATION IMPACT | O1: OVERALL RISK SCORE | P1: NOTES / Response Strategy
B2: 4 | O2: =IF(S4="LOW", IF(S12<4,"LOW",IF(S12<=15,"MODERATE","HIGH")), IF(S4="MODERATE", IF(S12<11,"LOW",IF(S12<=18,"MODERATE","HIGH")), IF(S4="HIGH", IF(S12<15,"LOW",IF(S12<=20,"MODERATE","HIGH")), ""))) -> LOW
B4: ID # | C4: TRIGGER OWNER | D4: TRIGGER EVENTS | H4: PROBABILITY | I4: % Occurance | J4: Cost | K4: Estimated Value | L4: Last Review D/M/YEAR | M4: Trigger Owner | N4: Action | O4: NOTES | R4: Overall Risk Posture | S4: =METHODOLOGY!C4 -> Low
I5: 0 | J5: 0 | K5: =I5*J5 -> 0 | N5: =IF(H5="VERY HIGH",R14, IF(H5="HIGH",R15, IF(H5="MEDIUM",R16, IF(H5="LOW",R17, IF(H5="VERY LOW",R18,""))))) | R5: SCOPE IMPACT SCORE | S5: =IF(H2="VERY HIGH",5,IF(H2="HIGH",4,IF(H2="MODERATE",3,IF(H2="LOW",2,IF(H2="VERY LOW",1,"")))))
N6: =IF(H6="VERY HIGH",R14, IF(H6="HIGH",R15, IF(H6="MEDIUM",R16, IF(H6="LOW",R17, IF(H6="VERY LOW",R18,""))))) | R6: BUDGET IMPACT SCORE | S6: =IF(I2="VERY HIGH",5,IF(I2="HIGH",4,IF(I2="MODERATE",3,IF(I2="LOW",2,IF(I2="VERY LOW",1,"")))))
N7: =IF(H7="VERY HIGH",R14, IF(H7="HIGH",R15, IF(H7="MEDIUM",R16, IF(H7="LOW",R17, IF(H7="VERY LOW",R18,""))))) | R7: TIME IMPACT SCORE | S7: =IF(J2="VERY HIGH",5,IF(J2="HIGH",4,IF(J2="MODERATE",3,IF(J2="LOW",2,IF(J2="VERY LOW",1,"")))))
N8: =IF(H8="VERY HIGH",R14, IF(H8="HIGH",R15, IF(H8="MEDIUM",R16, IF(H8="LOW",R17, IF(H8="VERY LOW",R18,""))))) | R8: OPERATIONS IMPACT SCORE | S8: =IF(K2="VERY HIGH",5,IF(K2="HIGH",4,IF(K2="MODERATE",3,IF(K2="LOW",2,IF(K2="VERY LOW",1,"")))))
I9: =IF(H9="VERY HIGH",R17, IF(H9="HIGH",R18, IF(H9="MEDIUM",R19, IF(H9="LOW",R20, IF(H9="VERY LOW",R21,""))))) | R9: HEALTH SAFETY IMPACT SCORE | S9: =IF(L2="VERY HIGH",5,IF(L2="HIGH",4,IF(L2="MODERATE",3,IF(L2="LOW",2,IF(L2="VERY LOW",1,"")))))
I10: =IF(H10="VERY HIGH",R17, IF(H10="HIGH",R18, IF(H10="MEDIUM",R19, IF(H10="LOW",R20, IF(H10="VERY LOW",R21,""))))) | R10: NATURAL ENVIRONMENT IMPACT SCORE | S10: =IF(M2="VERY HIGH",5,IF(M2="HIGH",4,IF(M2="MODERATE",3,IF(M2="LOW",2,IF(M2="VERY LOW",1,"")))))
R11: BRAND AND REP IMPACT SCORE | S11: =IF(N2="VERY HIGH",5,IF(N2="HIGH",4,IF(N2="MODERATE",3,IF(N2="LOW",2,IF(N2="VERY LOW",1,"")))))
R12: RISK SUM | S12: =SUM(S5:S11) -> 0
R13: ACTIONS
R14: =METHODOLOGY!C16 -> Immediately elevate to senior leadership, implement active mitigation measures, and monitor continuously with frequent status reviews and trigger tracking.
R15: =METHODOLOGY!C17 -> Implement defined mitigation actions, and review regularly with scheduled monitoring and trigger checks.
R16: =METHODOLOGY!C18 -> Track through normal project reporting cycles, confirm assumptions periodically, and prepare contingency actions if conditions begin to change.
R17: =METHODOLOGY!C19 -> Document and monitor during routine project reviews with no immediate mitigation required.
R18: =METHODOLOGY!C20 -> Record for awareness and reassess only if project conditions change or new information emerges.

Sheet Risk 5
B1: ID # | C1: Risk Owner | D1: RISK DESCRIPTION | E1: RISK CATEGORY | F1: POS / NEG | G1: PROBABILITY | H1: SCOPE IMPACT | I1: BUDGET IMPACT | J1: TIME IMPACT | K1: OPERATIONS IMPACT | L1: HEALTH AND SAFETY IMPACT | M1: NATURAL ENVIRONMENT IMPACT | N1: BRAND AND REPUTATION IMPACT | O1: OVERALL RISK SCORE | P1: NOTES / Response Strategy
B2: 5 | O2: =IF(S4="LOW", IF(S12<4,"LOW",IF(S12<=15,"MODERATE","HIGH")), IF(S4="MODERATE", IF(S12<11,"LOW",IF(S12<=18,"MODERATE","HIGH")), IF(S4="HIGH", IF(S12<15,"LOW",IF(S12<=20,"MODERATE","HIGH")), ""))) -> LOW
B4: ID # | C4: TRIGGER OWNER | D4: TRIGGER EVENTS | H4: PROBABILITY | I4: % Occurance | J4: Cost | K4: Estimated Value | L4: Last Review D/M/YEAR | M4: Trigger Owner | N4: Action | O4: NOTES | R4: Overall Risk Posture | S4: =METHODOLOGY!C4 -> Low
I5: 0 | J5: 0 | K5: =I5*J5 -> 0 | N5: =IF(H5="VERY HIGH",R14, IF(H5="HIGH",R15, IF(H5="MEDIUM",R16, IF(H5="LOW",R17, IF(H5="VERY LOW",R18,""))))) | R5: SCOPE IMPACT SCORE | S5: =IF(H2="VERY HIGH",5,IF(H2="HIGH",4,IF(H2="MODERATE",3,IF(H2="LOW",2,IF(H2="VERY LOW",1,"")))))
N6: =IF(H6="VERY HIGH",R14, IF(H6="HIGH",R15, IF(H6="MEDIUM",R16, IF(H6="LOW",R17, IF(H6="VERY LOW",R18,""))))) | R6: BUDGET IMPACT SCORE | S6: =IF(I2="VERY HIGH",5,IF(I2="HIGH",4,IF(I2="MODERATE",3,IF(I2="LOW",2,IF(I2="VERY LOW",1,"")))))
N7: =IF(H7="VERY HIGH",R14, IF(H7="HIGH",R15, IF(H7="MEDIUM",R16, IF(H7="LOW",R17, IF(H7="VERY LOW",R18,""))))) | R7: TIME IMPACT SCORE | S7: =IF(J2="VERY HIGH",5,IF(J2="HIGH",4,IF(J2="MODERATE",3,IF(J2="LOW",2,IF(J2="VERY LOW",1,"")))))
N8: =IF(H8="VERY HIGH",R14, IF(H8="HIGH",R15, IF(H8="MEDIUM",R16, IF(H8="LOW",R17, IF(H8="VERY LOW",R18,""))))) | R8: OPERATIONS IMPACT SCORE | S8: =IF(K2="VERY HIGH",5,IF(K2="HIGH",4,IF(K2="MODERATE",3,IF(K2="LOW",2,IF(K2="VERY LOW",1,"")))))
I9: =IF(H9="VERY HIGH",R17, IF(H9="HIGH",R18, IF(H9="MEDIUM",R19, IF(H9="LOW",R20, IF(H9="VERY LOW",R21,""))))) | R9: HEALTH SAFETY IMPACT SCORE | S9: =IF(L2="VERY HIGH",5,IF(L2="HIGH",4,IF(L2="MODERATE",3,IF(L2="LOW",2,IF(L2="VERY LOW",1,"")))))
I10: =IF(H10="VERY HIGH",R17, IF(H10="HIGH",R18, IF(H10="MEDIUM",R19, IF(H10="LOW",R20, IF(H10="VERY LOW",R21,""))))) | R10: NATURAL ENVIRONMENT IMPACT SCORE | S10: =IF(M2="VERY HIGH",5,IF(M2="HIGH",4,IF(M2="MODERATE",3,IF(M2="LOW",2,IF(M2="VERY LOW",1,"")))))
R11: BRAND AND REP IMPACT SCORE | S11: =IF(N2="VERY HIGH",5,IF(N2="HIGH",4,IF(N2="MODERATE",3,IF(N2="LOW",2,IF(N2="VERY LOW",1,"")))))
R12: RISK SUM | S12: =SUM(S5:S11) -> 0
R13: ACTIONS
R14: =METHODOLOGY!C16 -> Immediately elevate to senior leadership, implement active mitigation measures, and monitor continuously with frequent status reviews and trigger tracking.
R15: =METHODOLOGY!C17 -> Implement defined mitigation actions, and review regularly with scheduled monitoring and trigger checks.
R16: =METHODOLOGY!C18 -> Track through normal project reporting cycles, confirm assumptions periodically, and prepare contingency actions if conditions begin to change.
R17: =METHODOLOGY!C19 -> Document and monitor during routine project reviews with no immediate mitigation required.
R18: =METHODOLOGY!C20 -> Record for awareness and reassess only if project conditions change or new information emerges.

Sheet Risk 6
B1: ID # | C1: Risk Owner | D1: RISK DESCRIPTION | E1: RISK CATEGORY | F1: POS / NEG | G1: PROBABILITY | H1: SCOPE IMPACT | I1: BUDGET IMPACT | J1: TIME IMPACT | K1: OPERATIONS IMPACT | L1: HEALTH AND SAFETY IMPACT | M1: NATURAL ENVIRONMENT IMPACT | N1: BRAND AND REPUTATION IMPACT | O1: OVERALL RISK SCORE | P1: NOTES / Response Strategy
B2: 6 | O2: =IF(S4="LOW", IF(S12<4,"LOW",IF(S12<=15,"MODERATE","HIGH")), IF(S4="MODERATE", IF(S12<11,"LOW",IF(S12<=18,"MODERATE","HIGH")), IF(S4="HIGH", IF(S12<15,"LOW",IF(S12<=20,"MODERATE","HIGH")), ""))) -> LOW
B4: ID # | C4: TRIGGER OWNER | D4: TRIGGER EVENTS | H4: PROBABILITY | I4: % Occurance | J4: Cost | K4: Estimated Value | L4: Last Review D/M/YEAR | M4: Trigger Owner | N4: Action | O4: NOTES | R4: Overall Risk Posture | S4: =METHODOLOGY!C4 -> Low
I5: 0 | J5: 0 | K5: =I5*J5 -> 0 | N5: =IF(H5="VERY HIGH",R14, IF(H5="HIGH",R15, IF(H5="MEDIUM",R16, IF(H5="LOW",R17, IF(H5="VERY LOW",R18,""))))) | R5: SCOPE IMPACT SCORE | S5: =IF(H2="VERY HIGH",5,IF(H2="HIGH",4,IF(H2="MODERATE",3,IF(H2="LOW",2,IF(H2="VERY LOW",1,"")))))
N6: =IF(H6="VERY HIGH",R14, IF(H6="HIGH",R15, IF(H6="MEDIUM",R16, IF(H6="LOW",R17, IF(H6="VERY LOW",R18,""))))) | R6: BUDGET IMPACT SCORE | S6: =IF(I2="VERY HIGH",5,IF(I2="HIGH",4,IF(I2="MODERATE",3,IF(I2="LOW",2,IF(I2="VERY LOW",1,"")))))
N7: =IF(H7="VERY HIGH",R14, IF(H7="HIGH",R15, IF(H7="MEDIUM",R16, IF(H7="LOW",R17, IF(H7="VERY LOW",R18,""))))) | R7: TIME IMPACT SCORE | S7: =IF(J2="VERY HIGH",5,IF(J2="HIGH",4,IF(J2="MODERATE",3,IF(J2="LOW",2,IF(J2="VERY LOW",1,"")))))
N8: =IF(H8="VERY HIGH",R14, IF(H8="HIGH",R15, IF(H8="MEDIUM",R16, IF(H8="LOW",R17, IF(H8="VERY LOW",R18,""))))) | R8: OPERATIONS IMPACT SCORE | S8: =IF(K2="VERY HIGH",5,IF(K2="HIGH",4,IF(K2="MODERATE",3,IF(K2="LOW",2,IF(K2="VERY LOW",1,"")))))
I9: =IF(H9="VERY HIGH",R17, IF(H9="HIGH",R18, IF(H9="MEDIUM",R19, IF(H9="LOW",R20, IF(H9="VERY LOW",R21,""))))) | R9: HEALTH SAFETY IMPACT SCORE | S9: =IF(L2="VERY HIGH",5,IF(L2="HIGH",4,IF(L2="MODERATE",3,IF(L2="LOW",2,IF(L2="VERY LOW",1,"")))))
I10: =IF(H10="VERY HIGH",R17, IF(H10="HIGH",R18, IF(H10="MEDIUM",R19, IF(H10="LOW",R20, IF(H10="VERY LOW",R21,""))))) | R10: NATURAL ENVIRONMENT IMPACT SCORE | S10: =IF(M2="VERY HIGH",5,IF(M2="HIGH",4,IF(M2="MODERATE",3,IF(M2="LOW",2,IF(M2="VERY LOW",1,"")))))
R11: BRAND AND REP IMPACT SCORE | S11: =IF(N2="VERY HIGH",5,IF(N2="HIGH",4,IF(N2="MODERATE",3,IF(N2="LOW",2,IF(N2="VERY LOW",1,"")))))
R12: RISK SUM | S12: =SUM(S5:S11) -> 0
R13: ACTIONS
R14: =METHODOLOGY!C16 -> Immediately elevate to senior leadership, implement active mitigation measures, and monitor continuously with frequent status reviews and trigger tracking.
R15: =METHODOLOGY!C17 -> Implement defined mitigation actions, and review regularly with scheduled monitoring and trigger checks.
R16: =METHODOLOGY!C18 -> Track through normal project reporting cycles, confirm assumptions periodically, and prepare contingency actions if conditions begin to change.
R17: =METHODOLOGY!C19 -> Document and monitor during routine project reviews with no immediate mitigation required.
R18: =METHODOLOGY!C20 -> Record for awareness and reassess only if project conditions change or new information emerges.

Sheet Risk 7
B1: ID # | C1: Risk Owner | D1: RISK DESCRIPTION | E1: RISK CATEGORY | F1: POS / NEG | G1: PROBABILITY | H1: SCOPE IMPACT | I1: BUDGET IMPACT | J1: TIME IMPACT | K1: OPERATIONS IMPACT | L1: HEALTH AND SAFETY IMPACT | M1: NATURAL ENVIRONMENT IMPACT | N1: BRAND AND REPUTATION IMPACT | O1: OVERALL RISK SCORE | P1: NOTES / Response Strategy
B2: 7 | O2: =IF(S4="LOW", IF(S12<4,"LOW",IF(S12<=15,"MODERATE","HIGH")), IF(S4="MODERATE", IF(S12<11,"LOW",IF(S12<=18,"MODERATE","HIGH")), IF(S4="HIGH", IF(S12<15,"LOW",IF(S12<=20,"MODERATE","HIGH")), ""))) -> LOW
B4: ID # | C4: TRIGGER OWNER | D4: TRIGGER EVENTS | H4: PROBABILITY | I4: % Occurance | J4: Cost | K4: Estimated Value | L4: Last Review D/M/YEAR | M4: Trigger Owner | N4: Action | O4: NOTES | R4: Overall Risk Posture | S4: =METHODOLOGY!C4 -> Low
I5: 0 | J5: 0 | K5: =I5*J5 -> 0 | N5: =IF(H5="VERY HIGH",R14, IF(H5="HIGH",R15, IF(H5="MEDIUM",R16, IF(H5="LOW",R17, IF(H5="VERY LOW",R18,""))))) | R5: SCOPE IMPACT SCORE | S5: =IF(H2="VERY HIGH",5,IF(H2="HIGH",4,IF(H2="MODERATE",3,IF(H2="LOW",2,IF(H2="VERY LOW",1,"")))))
N6: =IF(H6="VERY HIGH",R14, IF(H6="HIGH",R15, IF(H6="MEDIUM",R16, IF(H6="LOW",R17, IF(H6="VERY LOW",R18,""))))) | R6: BUDGET IMPACT SCORE | S6: =IF(I2="VERY HIGH",5,IF(I2="HIGH",4,IF(I2="MODERATE",3,IF(I2="LOW",2,IF(I2="VERY LOW",1,"")))))
N7: =IF(H7="VERY HIGH",R14, IF(H7="HIGH",R15, IF(H7="MEDIUM",R16, IF(H7="LOW",R17, IF(H7="VERY LOW",R18,""))))) | R7: TIME IMPACT SCORE | S7: =IF(J2="VERY HIGH",5,IF(J2="HIGH",4,IF(J2="MODERATE",3,IF(J2="LOW",2,IF(J2="VERY LOW",1,"")))))
N8: =IF(H8="VERY HIGH",R14, IF(H8="HIGH",R15, IF(H8="MEDIUM",R16, IF(H8="LOW",R17, IF(H8="VERY LOW",R18,""))))) | R8: OPERATIONS IMPACT SCORE | S8: =IF(K2="VERY HIGH",5,IF(K2="HIGH",4,IF(K2="MODERATE",3,IF(K2="LOW",2,IF(K2="VERY LOW",1,"")))))
I9: =IF(H9="VERY HIGH",R17, IF(H9="HIGH",R18, IF(H9="MEDIUM",R19, IF(H9="LOW",R20, IF(H9="VERY LOW",R21,""))))) | R9: HEALTH SAFETY IMPACT SCORE | S9: =IF(L2="VERY HIGH",5,IF(L2="HIGH",4,IF(L2="MODERATE",3,IF(L2="LOW",2,IF(L2="VERY LOW",1,"")))))
I10: =IF(H10="VERY HIGH",R17, IF(H10="HIGH",R18, IF(H10="MEDIUM",R19, IF(H10="LOW",R20, IF(H10="VERY LOW",R21,""))))) | R10: NATURAL ENVIRONMENT IMPACT SCORE | S10: =IF(M2="VERY HIGH",5,IF(M2="HIGH",4,IF(M2="MODERATE",3,IF(M2="LOW",2,IF(M2="VERY LOW",1,"")))))
R11: BRAND AND REP IMPACT SCORE | S11: =IF(N2="VERY HIGH",5,IF(N2="HIGH",4,IF(N2="MODERATE",3,IF(N2="LOW",2,IF(N2="VERY LOW",1,"")))))
R12: RISK SUM | S12: =SUM(S5:S11) -> 0
R13: ACTIONS
R14: =METHODOLOGY!C16 -> Immediately elevate to senior leadership, implement active mitigation measures, and monitor continuously with frequent status reviews and trigger tracking.
R15: =METHODOLOGY!C17 -> Implement defined mitigation actions, and review regularly with scheduled monitoring and trigger checks.
R16: =METHODOLOGY!C18 -> Track through normal project reporting cycles, confirm assumptions periodically, and prepare contingency actions if conditions begin to change.
R17: =METHODOLOGY!C19 -> Document and monitor during routine project reviews with no immediate mitigation required.
R18: =METHODOLOGY!C20 -> Record for awareness and reassess only if project conditions change or new information emerges.

Sheet Risk 8
B1: ID # | C1: Risk Owner | D1: RISK DESCRIPTION | E1: RISK CATEGORY | F1: POS / NEG | G1: PROBABILITY | H1: SCOPE IMPACT | I1: BUDGET IMPACT | J1: TIME IMPACT | K1: OPERATIONS IMPACT | L1: HEALTH AND SAFETY IMPACT | M1: NATURAL ENVIRONMENT IMPACT | N1: BRAND AND REPUTATION IMPACT | O1: OVERALL RISK SCORE | P1: NOTES / Response Strategy
B2: 8 | O2: =IF(S4="LOW", IF(S12<4,"LOW",IF(S12<=15,"MODERATE","HIGH")), IF(S4="MODERATE", IF(S12<11,"LOW",IF(S12<=18,"MODERATE","HIGH")), IF(S4="HIGH", IF(S12<15,"LOW",IF(S12<=20,"MODERATE","HIGH")), ""))) -> LOW
B4: ID # | C4: TRIGGER OWNER | D4: TRIGGER EVENTS | H4: PROBABILITY | I4: % Occurance | J4: Cost | K4: Estimated Value | L4: Last Review D/M/YEAR | M4: Trigger Owner | N4: Action | O4: NOTES | R4: Overall Risk Posture | S4: =METHODOLOGY!C4 -> Low
I5: 0 | J5: 0 | K5: =I5*J5 -> 0 | N5: =IF(H5="VERY HIGH",R14, IF(H5="HIGH",R15, IF(H5="MEDIUM",R16, IF(H5="LOW",R17, IF(H5="VERY LOW",R18,""))))) | R5: SCOPE IMPACT SCORE | S5: =IF(H2="VERY HIGH",5,IF(H2="HIGH",4,IF(H2="MODERATE",3,IF(H2="LOW",2,IF(H2="VERY LOW",1,"")))))
N6: =IF(H6="VERY HIGH",R14, IF(H6="HIGH",R15, IF(H6="MEDIUM",R16, IF(H6="LOW",R17, IF(H6="VERY LOW",R18,""))))) | R6: BUDGET IMPACT SCORE | S6: =IF(I2="VERY HIGH",5,IF(I2="HIGH",4,IF(I2="MODERATE",3,IF(I2="LOW",2,IF(I2="VERY LOW",1,"")))))
N7: =IF(H7="VERY HIGH",R14, IF(H7="HIGH",R15, IF(H7="MEDIUM",R16, IF(H7="LOW",R17, IF(H7="VERY LOW",R18,""))))) | R7: TIME IMPACT SCORE | S7: =IF(J2="VERY HIGH",5,IF(J2="HIGH",4,IF(J2="MODERATE",3,IF(J2="LOW",2,IF(J2="VERY LOW",1,"")))))
N8: =IF(H8="VERY HIGH",R14, IF(H8="HIGH",R15, IF(H8="MEDIUM",R16, IF(H8="LOW",R17, IF(H8="VERY LOW",R18,""))))) | R8: OPERATIONS IMPACT SCORE | S8: =IF(K2="VERY HIGH",5,IF(K2="HIGH",4,IF(K2="MODERATE",3,IF(K2="LOW",2,IF(K2="VERY LOW",1,"")))))
I9: =IF(H9="VERY HIGH",R17, IF(H9="HIGH",R18, IF(H9="MEDIUM",R19, IF(H9="LOW",R20, IF(H9="VERY LOW",R21,""))))) | R9: HEALTH SAFETY IMPACT SCORE | S9: =IF(L2="VERY HIGH",5,IF(L2="HIGH",4,IF(L2="MODERATE",3,IF(L2="LOW",2,IF(L2="VERY LOW",1,"")))))
I10: =IF(H10="VERY HIGH",R17, IF(H10="HIGH",R18, IF(H10="MEDIUM",R19, IF(H10="LOW",R20, IF(H10="VERY LOW",R21,""))))) | R10: NATURAL ENVIRONMENT IMPACT SCORE | S10: =IF(M2="VERY HIGH",5,IF(M2="HIGH",4,IF(M2="MODERATE",3,IF(M2="LOW",2,IF(M2="VERY LOW",1,"")))))
R11: BRAND AND REP IMPACT SCORE | S11: =IF(N2="VERY HIGH",5,IF(N2="HIGH",4,IF(N2="MODERATE",3,IF(N2="LOW",2,IF(N2="VERY LOW",1,"")))))
R12: RISK SUM | S12: =SUM(S5:S11) -> 0
R13: ACTIONS
R14: =METHODOLOGY!C16 -> Immediately elevate to senior leadership, implement active mitigation measures, and monitor continuously with frequent status reviews and trigger tracking.
R15: =METHODOLOGY!C17 -> Implement defined mitigation actions, and review regularly with scheduled monitoring and trigger checks.
R16: =METHODOLOGY!C18 -> Track through normal project reporting cycles, confirm assumptions periodically, and prepare contingency actions if conditions begin to change.
R17: =METHODOLOGY!C19 -> Document and monitor during routine project reviews with no immediate mitigation required.
R18: =METHODOLOGY!C20 -> Record for awareness and reassess only if project conditions change or new information emerges.

Sheet Risk 9
B1: ID # | C1: Risk Owner | D1: RISK DESCRIPTION | E1: RISK CATEGORY | F1: POS / NEG | G1: PROBABILITY | H1: SCOPE IMPACT | I1: BUDGET IMPACT | J1: TIME IMPACT | K1: OPERATIONS IMPACT | L1: HEALTH AND SAFETY IMPACT | M1: NATURAL ENVIRONMENT IMPACT | N1: BRAND AND REPUTATION IMPACT | O1: OVERALL RISK SCORE | P1: NOTES / Response Strategy
B2: 9 | O2: =IF(S4="LOW", IF(S12<4,"LOW",IF(S12<=15,"MODERATE","HIGH")), IF(S4="MODERATE", IF(S12<11,"LOW",IF(S12<=18,"MODERATE","HIGH")), IF(S4="HIGH", IF(S12<15,"LOW",IF(S12<=20,"MODERATE","HIGH")), ""))) -> LOW
B4: ID # | C4: TRIGGER OWNER | D4: TRIGGER EVENTS | H4: PROBABILITY | I4: % Occurance | J4: Cost | K4: Estimated Value | L4: Last Review D/M/YEAR | M4: Trigger Owner | N4: Action | O4: NOTES | R4: Overall Risk Posture | S4: =METHODOLOGY!C4 -> Low
I5: 0 | J5: 0 | K5: =I5*J5 -> 0 | N5: =IF(H5="VERY HIGH",R14, IF(H5="HIGH",R15, IF(H5="MEDIUM",R16, IF(H5="LOW",R17, IF(H5="VERY LOW",R18,""))))) | R5: SCOPE IMPACT SCORE | S5: =IF(H2="VERY HIGH",5,IF(H2="HIGH",4,IF(H2="MODERATE",3,IF(H2="LOW",2,IF(H2="VERY LOW",1,"")))))
N6: =IF(H6="VERY HIGH",R14, IF(H6="HIGH",R15, IF(H6="MEDIUM",R16, IF(H6="LOW",R17, IF(H6="VERY LOW",R18,""))))) | R6: BUDGET IMPACT SCORE | S6: =IF(I2="VERY HIGH",5,IF(I2="HIGH",4,IF(I2="MODERATE",3,IF(I2="LOW",2,IF(I2="VERY LOW",1,"")))))
N7: =IF(H7="VERY HIGH",R14, IF(H7="HIGH",R15, IF(H7="MEDIUM",R16, IF(H7="LOW",R17, IF(H7="VERY LOW",R18,""))))) | R7: TIME IMPACT SCORE | S7: =IF(J2="VERY HIGH",5,IF(J2="HIGH",4,IF(J2="MODERATE",3,IF(J2="LOW",2,IF(J2="VERY LOW",1,"")))))
N8: =IF(H8="VERY HIGH",R14, IF(H8="HIGH",R15, IF(H8="MEDIUM",R16, IF(H8="LOW",R17, IF(H8="VERY LOW",R18,""))))) | R8: OPERATIONS IMPACT SCORE | S8: =IF(K2="VERY HIGH",5,IF(K2="HIGH",4,IF(K2="MODERATE",3,IF(K2="LOW",2,IF(K2="VERY LOW",1,"")))))
I9: =IF(H9="VERY HIGH",R17, IF(H9="HIGH",R18, IF(H9="MEDIUM",R19, IF(H9="LOW",R20, IF(H9="VERY LOW",R21,""))))) | R9: HEALTH SAFETY IMPACT SCORE | S9: =IF(L2="VERY HIGH",5,IF(L2="HIGH",4,IF(L2="MODERATE",3,IF(L2="LOW",2,IF(L2="VERY LOW",1,"")))))
I10: =IF(H10="VERY HIGH",R17, IF(H10="HIGH",R18, IF(H10="MEDIUM",R19, IF(H10="LOW",R20, IF(H10="VERY LOW",R21,""))))) | R10: NATURAL ENVIRONMENT IMPACT SCORE | S10: =IF(M2="VERY HIGH",5,IF(M2="HIGH",4,IF(M2="MODERATE",3,IF(M2="LOW",2,IF(M2="VERY LOW",1,"")))))
R11: BRAND AND REP IMPACT SCORE | S11: =IF(N2="VERY HIGH",5,IF(N2="HIGH",4,IF(N2="MODERATE",3,IF(N2="LOW",2,IF(N2="VERY LOW",1,"")))))
R12: RISK SUM | S12: =SUM(S5:S11) -> 0
R13: ACTIONS
R14: =METHODOLOGY!C16 -> Immediately elevate to senior leadership, implement active mitigation measures, and monitor continuously with frequent status reviews and trigger tracking.
R15: =METHODOLOGY!C17 -> Implement defined mitigation actions, and review regularly with scheduled monitoring and trigger checks.
R16: =METHODOLOGY!C18 -> Track through normal project reporting cycles, confirm assumptions periodically, and prepare contingency actions if conditions begin to change.
R17: =METHODOLOGY!C19 -> Document and monitor during routine project reviews with no immediate mitigation required.
R18: =METHODOLOGY!C20 -> Record for awareness and reassess only if project conditions change or new information emerges.

Sheet Risk 10
B1: ID # | C1: Risk Owner | D1: RISK DESCRIPTION | E1: RISK CATEGORY | F1: POS / NEG | G1: PROBABILITY | H1: SCOPE IMPACT | I1: BUDGET IMPACT | J1: TIME IMPACT | K1: OPERATIONS IMPACT | L1: HEALTH AND SAFETY IMPACT | M1: NATURAL ENVIRONMENT IMPACT | N1: BRAND AND REPUTATION IMPACT | O1: OVERALL RISK SCORE | P1: NOTES / Response Strategy
B2: 10 | O2: =IF(S4="LOW", IF(S12<4,"LOW",IF(S12<=15,"MODERATE","HIGH")), IF(S4="MODERATE", IF(S12<11,"LOW",IF(S12<=18,"MODERATE","HIGH")), IF(S4="HIGH", IF(S12<15,"LOW",IF(S12<=20,"MODERATE","HIGH")), ""))) -> LOW
B4: ID # | C4: TRIGGER OWNER | D4: TRIGGER EVENTS | H4: PROBABILITY | I4: % Occurance | J4: Cost | K4: Estimated Value | L4: Last Review D/M/YEAR | M4: Trigger Owner | N4: Action | O4: NOTES | R4: Overall Risk Posture | S4: =METHODOLOGY!C4 -> Low
I5: 0 | J5: 0 | K5: =I5*J5 -> 0 | N5: =IF(H5="VERY HIGH",R14, IF(H5="HIGH",R15, IF(H5="MEDIUM",R16, IF(H5="LOW",R17, IF(H5="VERY LOW",R18,""))))) | R5: SCOPE IMPACT SCORE | S5: =IF(H2="VERY HIGH",5,IF(H2="HIGH",4,IF(H2="MODERATE",3,IF(H2="LOW",2,IF(H2="VERY LOW",1,"")))))
N6: =IF(H6="VERY HIGH",R14, IF(H6="HIGH",R15, IF(H6="MEDIUM",R16, IF(H6="LOW",R17, IF(H6="VERY LOW",R18,""))))) | R6: BUDGET IMPACT SCORE | S6: =IF(I2="VERY HIGH",5,IF(I2="HIGH",4,IF(I2="MODERATE",3,IF(I2="LOW",2,IF(I2="VERY LOW",1,"")))))
N7: =IF(H7="VERY HIGH",R14, IF(H7="HIGH",R15, IF(H7="MEDIUM",R16, IF(H7="LOW",R17, IF(H7="VERY LOW",R18,""))))) | R7: TIME IMPACT SCORE | S7: =IF(J2="VERY HIGH",5,IF(J2="HIGH",4,IF(J2="MODERATE",3,IF(J2="LOW",2,IF(J2="VERY LOW",1,"")))))
N8: =IF(H8="VERY HIGH",R14, IF(H8="HIGH",R15, IF(H8="MEDIUM",R16, IF(H8="LOW",R17, IF(H8="VERY LOW",R18,""))))) | R8: OPERATIONS IMPACT SCORE | S8: =IF(K2="VERY HIGH",5,IF(K2="HIGH",4,IF(K2="MODERATE",3,IF(K2="LOW",2,IF(K2="VERY LOW",1,"")))))
I9: =IF(H9="VERY HIGH",R17, IF(H9="HIGH",R18, IF(H9="MEDIUM",R19, IF(H9="LOW",R20, IF(H9="VERY LOW",R21,""))))) | R9: HEALTH SAFETY IMPACT SCORE | S9: =IF(L2="VERY HIGH",5,IF(L2="HIGH",4,IF(L2="MODERATE",3,IF(L2="LOW",2,IF(L2="VERY LOW",1,"")))))
I10: =IF(H10="VERY HIGH",R17, IF(H10="HIGH",R18, IF(H10="MEDIUM",R19, IF(H10="LOW",R20, IF(H10="VERY LOW",R21,""))))) | R10: NATURAL ENVIRONMENT IMPACT SCORE | S10: =IF(M2="VERY HIGH",5,IF(M2="HIGH",4,IF(M2="MODERATE",3,IF(M2="LOW",2,IF(M2="VERY LOW",1,"")))))
R11: BRAND AND REP IMPACT SCORE | S11: =IF(N2="VERY HIGH",5,IF(N2="HIGH",4,IF(N2="MODERATE",3,IF(N2="LOW",2,IF(N2="VERY LOW",1,"")))))
R12: RISK SUM | S12: =SUM(S5:S11) -> 0
R13: ACTIONS
R14: =METHODOLOGY!C16 -> Immediately elevate to senior leadership, implement active mitigation measures, and monitor continuously with frequent status reviews and trigger tracking.
R15: =METHODOLOGY!C17 -> Implement defined mitigation actions, and review regularly with scheduled monitoring and trigger checks.
R16: =METHODOLOGY!C18 -> Track through normal project reporting cycles, confirm assumptions periodically, and prepare contingency actions if conditions begin to change.
R17: =METHODOLOGY!C19 -> Document and monitor during routine project reviews with no immediate mitigation required.
R18: =METHODOLOGY!C20 -> Record for awareness and reassess only if project conditions change or new information emerges.

Sheet Risk 11
B1: ID # | C1: Risk Owner | D1: RISK DESCRIPTION | E1: RISK CATEGORY | F1: POS / NEG | G1: PROBABILITY | H1: SCOPE IMPACT | I1: BUDGET IMPACT | J1: TIME IMPACT | K1: OPERATIONS IMPACT | L1: HEALTH AND SAFETY IMPACT | M1: NATURAL ENVIRONMENT IMPACT | N1: BRAND AND REPUTATION IMPACT | O1: OVERALL RISK SCORE | P1: NOTES / Response Strategy
B2: 11 | O2: =IF(S4="LOW", IF(S12<4,"LOW",IF(S12<=15,"MODERATE","HIGH")), IF(S4="MODERATE", IF(S12<11,"LOW",IF(S12<=18,"MODERATE","HIGH")), IF(S4="HIGH", IF(S12<15,"LOW",IF(S12<=20,"MODERATE","HIGH")), ""))) -> LOW
B4: ID # | C4: TRIGGER OWNER | D4: TRIGGER EVENTS | H4: PROBABILITY | I4: % Occurance | J4: Cost | K4: Estimated Value | L4: Last Review D/M/YEAR | M4: Trigger Owner | N4: Action | O4: NOTES | R4: Overall Risk Posture | S4: =METHODOLOGY!C4 -> Low
I5: 0 | J5: 0 | K5: =I5*J5 -> 0 | N5: =IF(H5="VERY HIGH",R14, IF(H5="HIGH",R15, IF(H5="MEDIUM",R16, IF(H5="LOW",R17, IF(H5="VERY LOW",R18,""))))) | R5: SCOPE IMPACT SCORE | S5: =IF(H2="VERY HIGH",5,IF(H2="HIGH",4,IF(H2="MODERATE",3,IF(H2="LOW",2,IF(H2="VERY LOW",1,"")))))
N6: =IF(H6="VERY HIGH",R14, IF(H6="HIGH",R15, IF(H6="MEDIUM",R16, IF(H6="LOW",R17, IF(H6="VERY LOW",R18,""))))) | R6: BUDGET IMPACT SCORE | S6: =IF(I2="VERY HIGH",5,IF(I2="HIGH",4,IF(I2="MODERATE",3,IF(I2="LOW",2,IF(I2="VERY LOW",1,"")))))
N7: =IF(H7="VERY HIGH",R14, IF(H7="HIGH",R15, IF(H7="MEDIUM",R16, IF(H7="LOW",R17, IF(H7="VERY LOW",R18,""))))) | R7: TIME IMPACT SCORE | S7: =IF(J2="VERY HIGH",5,IF(J2="HIGH",4,IF(J2="MODERATE",3,IF(J2="LOW",2,IF(J2="VERY LOW",1,"")))))
N8: =IF(H8="VERY HIGH",R14, IF(H8="HIGH",R15, IF(H8="MEDIUM",R16, IF(H8="LOW",R17, IF(H8="VERY LOW",R18,""))))) | R8: OPERATIONS IMPACT SCORE | S8: =IF(K2="VERY HIGH",5,IF(K2="HIGH",4,IF(K2="MODERATE",3,IF(K2="LOW",2,IF(K2="VERY LOW",1,"")))))
I9: =IF(H9="VERY HIGH",R17, IF(H9="HIGH",R18, IF(H9="MEDIUM",R19, IF(H9="LOW",R20, IF(H9="VERY LOW",R21,""))))) | R9: HEALTH SAFETY IMPACT SCORE | S9: =IF(L2="VERY HIGH",5,IF(L2="HIGH",4,IF(L2="MODERATE",3,IF(L2="LOW",2,IF(L2="VERY LOW",1,"")))))
I10: =IF(H10="VERY HIGH",R17, IF(H10="HIGH",R18, IF(H10="MEDIUM",R19, IF(H10="LOW",R20, IF(H10="VERY LOW",R21,""))))) | R10: NATURAL ENVIRONMENT IMPACT SCORE | S10: =IF(M2="VERY HIGH",5,IF(M2="HIGH",4,IF(M2="MODERATE",3,IF(M2="LOW",2,IF(M2="VERY LOW",1,"")))))
R11: BRAND AND REP IMPACT SCORE | S11: =IF(N2="VERY HIGH",5,IF(N2="HIGH",4,IF(N2="MODERATE",3,IF(N2="LOW",2,IF(N2="VERY LOW",1,"")))))
R12: RISK SUM | S12: =SUM(S5:S11) -> 0
R13: ACTIONS
R14: =METHODOLOGY!C16 -> Immediately elevate to senior leadership, implement active mitigation measures, and monitor continuously with frequent status reviews and trigger tracking.
R15: =METHODOLOGY!C17 -> Implement defined mitigation actions, and review regularly with scheduled monitoring and trigger checks.
R16: =METHODOLOGY!C18 -> Track through normal project reporting cycles, confirm assumptions periodically, and prepare contingency actions if conditions begin to change.
R17: =METHODOLOGY!C19 -> Document and monitor during routine project reviews with no immediate mitigation required.
R18: =METHODOLOGY!C20 -> Record for awareness and reassess only if project conditions change or new information emerges.

Sheet Risk 12
B1: ID # | C1: Risk Owner | D1: RISK DESCRIPTION | E1: RISK CATEGORY | F1: POS / NEG | G1: PROBABILITY | H1: SCOPE IMPACT | I1: BUDGET IMPACT | J1: TIME IMPACT | K1: OPERATIONS IMPACT | L1: HEALTH AND SAFETY IMPACT | M1: NATURAL ENVIRONMENT IMPACT | N1: BRAND AND REPUTATION IMPACT | O1: OVERALL RISK SCORE | P1: NOTES / Response Strategy
B2: 12 | O2: =IF(S4="LOW", IF(S12<4,"LOW",IF(S12<=15,"MODERATE","HIGH")), IF(S4="MODERATE", IF(S12<11,"LOW",IF(S12<=18,"MODERATE","HIGH")), IF(S4="HIGH", IF(S12<15,"LOW",IF(S12<=20,"MODERATE","HIGH")), ""))) -> LOW
B4: ID # | C4: TRIGGER OWNER | D4: TRIGGER EVENTS | H4: PROBABILITY | I4: % Occurance | J4: Cost | K4: Estimated Value | L4: Last Review D/M/YEAR | M4: Trigger Owner | N4: Action | O4: NOTES | R4: Overall Risk Posture | S4: =METHODOLOGY!C4 -> Low
I5: 0 | J5: 0 | K5: =I5*J5 -> 0 | N5: =IF(H5="VERY HIGH",R14, IF(H5="HIGH",R15, IF(H5="MEDIUM",R16, IF(H5="LOW",R17, IF(H5="VERY LOW",R18,""))))) | R5: SCOPE IMPACT SCORE | S5: =IF(H2="VERY HIGH",5,IF(H2="HIGH",4,IF(H2="MODERATE",3,IF(H2="LOW",2,IF(H2="VERY LOW",1,"")))))
N6: =IF(H6="VERY HIGH",R14, IF(H6="HIGH",R15, IF(H6="MEDIUM",R16, IF(H6="LOW",R17, IF(H6="VERY LOW",R18,""))))) | R6: BUDGET IMPACT SCORE | S6: =IF(I2="VERY HIGH",5,IF(I2="HIGH",4,IF(I2="MODERATE",3,IF(I2="LOW",2,IF(I2="VERY LOW",1,"")))))
N7: =IF(H7="VERY HIGH",R14, IF(H7="HIGH",R15, IF(H7="MEDIUM",R16, IF(H7="LOW",R17, IF(H7="VERY LOW",R18,""))))) | R7: TIME IMPACT SCORE | S7: =IF(J2="VERY HIGH",5,IF(J2="HIGH",4,IF(J2="MODERATE",3,IF(J2="LOW",2,IF(J2="VERY LOW",1,"")))))
N8: =IF(H8="VERY HIGH",R14, IF(H8="HIGH",R15, IF(H8="MEDIUM",R16, IF(H8="LOW",R17, IF(H8="VERY LOW",R18,""))))) | R8: OPERATIONS IMPACT SCORE | S8: =IF(K2="VERY HIGH",5,IF(K2="HIGH",4,IF(K2="MODERATE",3,IF(K2="LOW",2,IF(K2="VERY LOW",1,"")))))
I9: =IF(H9="VERY HIGH",R17, IF(H9="HIGH",R18, IF(H9="MEDIUM",R19, IF(H9="LOW",R20, IF(H9="VERY LOW",R21,""))))) | R9: HEALTH SAFETY IMPACT SCORE | S9: =IF(L2="VERY HIGH",5,IF(L2="HIGH",4,IF(L2="MODERATE",3,IF(L2="LOW",2,IF(L2="VERY LOW",1,"")))))
I10: =IF(H10="VERY HIGH",R17, IF(H10="HIGH",R18, IF(H10="MEDIUM",R19, IF(H10="LOW",R20, IF(H10="VERY LOW",R21,""))))) | R10: NATURAL ENVIRONMENT IMPACT SCORE | S10: =IF(M2="VERY HIGH",5,IF(M2="HIGH",4,IF(M2="MODERATE",3,IF(M2="LOW",2,IF(M2="VERY LOW",1,"")))))
R11: BRAND AND REP IMPACT SCORE | S11: =IF(N2="VERY HIGH",5,IF(N2="HIGH",4,IF(N2="MODERATE",3,IF(N2="LOW",2,IF(N2="VERY LOW",1,"")))))
R12: RISK SUM | S12: =SUM(S5:S11) -> 0
R13: ACTIONS
R14: =METHODOLOGY!C16 -> Immediately elevate to senior leadership, implement active mitigation measures, and monitor continuously with frequent status reviews and trigger tracking.
R15: =METHODOLOGY!C17 -> Implement defined mitigation actions, and review regularly with scheduled monitoring and trigger checks.
R16: =METHODOLOGY!C18 -> Track through normal project reporting cycles, confirm assumptions periodically, and prepare contingency actions if conditions begin to change.
R17: =METHODOLOGY!C19 -> Document and monitor during routine project reviews with no immediate mitigation required.
R18: =METHODOLOGY!C20 -> Record for awareness and reassess only if project conditions change or new information emerges.

Sheet Risk 13
B1: ID # | C1: Risk Owner | D1: RISK DESCRIPTION | E1: RISK CATEGORY | F1: POS / NEG | G1: PROBABILITY | H1: SCOPE IMPACT | I1: BUDGET IMPACT | J1: TIME IMPACT | K1: OPERATIONS IMPACT | L1: HEALTH AND SAFETY IMPACT | M1: NATURAL ENVIRONMENT IMPACT | N1: BRAND AND REPUTATION IMPACT | O1: OVERALL RISK SCORE | P1: NOTES / Response Strategy
B2: 13 | O2: =IF(S4="LOW", IF(S12<4,"LOW",IF(S12<=15,"MODERATE","HIGH")), IF(S4="MODERATE", IF(S12<11,"LOW",IF(S12<=18,"MODERATE","HIGH")), IF(S4="HIGH", IF(S12<15,"LOW",IF(S12<=20,"MODERATE","HIGH")), ""))) -> LOW
B4: ID # | C4: TRIGGER OWNER | D4: TRIGGER EVENTS | H4: PROBABILITY | I4: % Occurance | J4: Cost | K4: Estimated Value | L4: Last Review D/M/YEAR | M4: Trigger Owner | N4: Action | O4: NOTES | R4: Overall Risk Posture | S4: =METHODOLOGY!C4 -> Low
I5: 0 | J5: 0 | K5: =I5*J5 -> 0 | N5: =IF(H5="VERY HIGH",R14, IF(H5="HIGH",R15, IF(H5="MEDIUM",R16, IF(H5="LOW",R17, IF(H5="VERY LOW",R18,""))))) | R5: SCOPE IMPACT SCORE | S5: =IF(H2="VERY HIGH",5,IF(H2="HIGH",4,IF(H2="MODERATE",3,IF(H2="LOW",2,IF(H2="VERY LOW",1,"")))))
N6: =IF(H6="VERY HIGH",R14, IF(H6="HIGH",R15, IF(H6="MEDIUM",R16, IF(H6="LOW",R17, IF(H6="VERY LOW",R18,""))))) | R6: BUDGET IMPACT SCORE | S6: =IF(I2="VERY HIGH",5,IF(I2="HIGH",4,IF(I2="MODERATE",3,IF(I2="LOW",2,IF(I2="VERY LOW",1,"")))))
N7: =IF(H7="VERY HIGH",R14, IF(H7="HIGH",R15, IF(H7="MEDIUM",R16, IF(H7="LOW",R17, IF(H7="VERY LOW",R18,""))))) | R7: TIME IMPACT SCORE | S7: =IF(J2="VERY HIGH",5,IF(J2="HIGH",4,IF(J2="MODERATE",3,IF(J2="LOW",2,IF(J2="VERY LOW",1,"")))))
N8: =IF(H8="VERY HIGH",R14, IF(H8="HIGH",R15, IF(H8="MEDIUM",R16, IF(H8="LOW",R17, IF(H8="VERY LOW",R18,""))))) | R8: OPERATIONS IMPACT SCORE | S8: =IF(K2="VERY HIGH",5,IF(K2="HIGH",4,IF(K2="MODERATE",3,IF(K2="LOW",2,IF(K2="VERY LOW",1,"")))))
I9: =IF(H9="VERY HIGH",R17, IF(H9="HIGH",R18, IF(H9="MEDIUM",R19, IF(H9="LOW",R20, IF(H9="VERY LOW",R21,""))))) | R9: HEALTH SAFETY IMPACT SCORE | S9: =IF(L2="VERY HIGH",5,IF(L2="HIGH",4,IF(L2="MODERATE",3,IF(L2="LOW",2,IF(L2="VERY LOW",1,"")))))
I10: =IF(H10="VERY HIGH",R17, IF(H10="HIGH",R18, IF(H10="MEDIUM",R19, IF(H10="LOW",R20, IF(H10="VERY LOW",R21,""))))) | R10: NATURAL ENVIRONMENT IMPACT SCORE | S10: =IF(M2="VERY HIGH",5,IF(M2="HIGH",4,IF(M2="MODERATE",3,IF(M2="LOW",2,IF(M2="VERY LOW",1,"")))))
R11: BRAND AND REP IMPACT SCORE | S11: =IF(N2="VERY HIGH",5,IF(N2="HIGH",4,IF(N2="MODERATE",3,IF(N2="LOW",2,IF(N2="VERY LOW",1,"")))))
R12: RISK SUM | S12: =SUM(S5:S11) -> 0
R13: ACTIONS
R14: =METHODOLOGY!C16 -> Immediately elevate to senior leadership, implement active mitigation measures, and monitor continuously with frequent status reviews and trigger tracking.
R15: =METHODOLOGY!C17 -> Implement defined mitigation actions, and review regularly with scheduled monitoring and trigger checks.
R16: =METHODOLOGY!C18 -> Track through normal project reporting cycles, confirm assumptions periodically, and prepare contingency actions if conditions begin to change.
R17: =METHODOLOGY!C19 -> Document and monitor during routine project reviews with no immediate mitigation required.
R18: =METHODOLOGY!C20 -> Record for awareness and reassess only if project conditions change or new information emerges.

Sheet Risk 14
B1: ID # | C1: Risk Owner | D1: RISK DESCRIPTION | E1: RISK CATEGORY | F1: POS / NEG | G1: PROBABILITY | H1: SCOPE IMPACT | I1: BUDGET IMPACT | J1: TIME IMPACT | K1: OPERATIONS IMPACT | L1: HEALTH AND SAFETY IMPACT | M1: NATURAL ENVIRONMENT IMPACT | N1: BRAND AND REPUTATION IMPACT | O1: OVERALL RISK SCORE | P1: NOTES / Response Strategy
B2: 14 | O2: =IF(S4="LOW", IF(S12<4,"LOW",IF(S12<=15,"MODERATE","HIGH")), IF(S4="MODERATE", IF(S12<11,"LOW",IF(S12<=18,"MODERATE","HIGH")), IF(S4="HIGH", IF(S12<15,"LOW",IF(S12<=20,"MODERATE","HIGH")), ""))) -> LOW
B4: ID # | C4: TRIGGER OWNER | D4: TRIGGER EVENTS | H4: PROBABILITY | I4: % Occurance | J4: Cost | K4: Estimated Value | L4: Last Review D/M/YEAR | M4: Trigger Owner | N4: Action | O4: NOTES | R4: Overall Risk Posture | S4: =METHODOLOGY!C4 -> Low
I5: 0 | J5: 0 | K5: =I5*J5 -> 0 | N5: =IF(H5="VERY HIGH",R14, IF(H5="HIGH",R15, IF(H5="MEDIUM",R16, IF(H5="LOW",R17, IF(H5="VERY LOW",R18,""))))) | R5: SCOPE IMPACT SCORE | S5: =IF(H2="VERY HIGH",5,IF(H2="HIGH",4,IF(H2="MODERATE",3,IF(H2="LOW",2,IF(H2="VERY LOW",1,"")))))
N6: =IF(H6="VERY HIGH",R14, IF(H6="HIGH",R15, IF(H6="MEDIUM",R16, IF(H6="LOW",R17, IF(H6="VERY LOW",R18,""))))) | R6: BUDGET IMPACT SCORE | S6: =IF(I2="VERY HIGH",5,IF(I2="HIGH",4,IF(I2="MODERATE",3,IF(I2="LOW",2,IF(I2="VERY LOW",1,"")))))
N7: =IF(H7="VERY HIGH",R14, IF(H7="HIGH",R15, IF(H7="MEDIUM",R16, IF(H7="LOW",R17, IF(H7="VERY LOW",R18,""))))) | R7: TIME IMPACT SCORE | S7: =IF(J2="VERY HIGH",5,IF(J2="HIGH",4,IF(J2="MODERATE",3,IF(J2="LOW",2,IF(J2="VERY LOW",1,"")))))
N8: =IF(H8="VERY HIGH",R14, IF(H8="HIGH",R15, IF(H8="MEDIUM",R16, IF(H8="LOW",R17, IF(H8="VERY LOW",R18,""))))) | R8: OPERATIONS IMPACT SCORE | S8: =IF(K2="VERY HIGH",5,IF(K2="HIGH",4,IF(K2="MODERATE",3,IF(K2="LOW",2,IF(K2="VERY LOW",1,"")))))
I9: =IF(H9="VERY HIGH",R17, IF(H9="HIGH",R18, IF(H9="MEDIUM",R19, IF(H9="LOW",R20, IF(H9="VERY LOW",R21,""))))) | R9: HEALTH SAFETY IMPACT SCORE | S9: =IF(L2="VERY HIGH",5,IF(L2="HIGH",4,IF(L2="MODERATE",3,IF(L2="LOW",2,IF(L2="VERY LOW",1,"")))))
I10: =IF(H10="VERY HIGH",R17, IF(H10="HIGH",R18, IF(H10="MEDIUM",R19, IF(H10="LOW",R20, IF(H10="VERY LOW",R21,""))))) | R10: NATURAL ENVIRONMENT IMPACT SCORE | S10: =IF(M2="VERY HIGH",5,IF(M2="HIGH",4,IF(M2="MODERATE",3,IF(M2="LOW",2,IF(M2="VERY LOW",1,"")))))
R11: BRAND AND REP IMPACT SCORE | S11: =IF(N2="VERY HIGH",5,IF(N2="HIGH",4,IF(N2="MODERATE",3,IF(N2="LOW",2,IF(N2="VERY LOW",1,"")))))
R12: RISK SUM | S12: =SUM(S5:S11) -> 0
R13: ACTIONS
R14: =METHODOLOGY!C16 -> Immediately elevate to senior leadership, implement active mitigation measures, and monitor continuously with frequent status reviews and trigger tracking.
R15: =METHODOLOGY!C17 -> Implement defined mitigation actions, and review regularly with scheduled monitoring and trigger checks.
R16: =METHODOLOGY!C18 -> Track through normal project reporting cycles, confirm assumptions periodically, and prepare contingency actions if conditions begin to change.
R17: =METHODOLOGY!C19 -> Document and monitor during routine project reviews with no immediate mitigation required.
R18: =METHODOLOGY!C20 -> Record for awareness and reassess only if project conditions change or new information emerges.

Sheet Risk 15
B1: ID # | C1: Risk Owner | D1: RISK DESCRIPTION | E1: RISK CATEGORY | F1: POS / NEG | G1: PROBABILITY | H1: SCOPE IMPACT | I1: BUDGET IMPACT | J1: TIME IMPACT | K1: OPERATIONS IMPACT | L1: HEALTH AND SAFETY IMPACT | M1: NATURAL ENVIRONMENT IMPACT | N1: BRAND AND REPUTATION IMPACT | O1: OVERALL RISK SCORE | P1: NOTES / Response Strategy
B2: 15 | O2: =IF(S4="LOW", IF(S12<4,"LOW",IF(S12<=15,"MODERATE","HIGH")), IF(S4="MODERATE", IF(S12<11,"LOW",IF(S12<=18,"MODERATE","HIGH")), IF(S4="HIGH", IF(S12<15,"LOW",IF(S12<=20,"MODERATE","HIGH")), ""))) -> LOW
B4: ID # | C4: TRIGGER OWNER | D4: TRIGGER EVENTS | H4: PROBABILITY | I4: % Occurance | J4: Cost | K4: Estimated Value | L4: Last Review D/M/YEAR | M4: Trigger Owner | N4: Action | O4: NOTES | R4: Overall Risk Posture | S4: =METHODOLOGY!C4 -> Low
I5: 0 | J5: 0 | K5: =I5*J5 -> 0 | N5: =IF(H5="VERY HIGH",R14, IF(H5="HIGH",R15, IF(H5="MEDIUM",R16, IF(H5="LOW",R17, IF(H5="VERY LOW",R18,""))))) | R5: SCOPE IMPACT SCORE | S5: =IF(H2="VERY HIGH",5,IF(H2="HIGH",4,IF(H2="MODERATE",3,IF(H2="LOW",2,IF(H2="VERY LOW",1,"")))))
N6: =IF(H6="VERY HIGH",R14, IF(H6="HIGH",R15, IF(H6="MEDIUM",R16, IF(H6="LOW",R17, IF(H6="VERY LOW",R18,""))))) | R6: BUDGET IMPACT SCORE | S6: =IF(I2="VERY HIGH",5,IF(I2="HIGH",4,IF(I2="MODERATE",3,IF(I2="LOW",2,IF(I2="VERY LOW",1,"")))))
N7: =IF(H7="VERY HIGH",R14, IF(H7="HIGH",R15, IF(H7="MEDIUM",R16, IF(H7="LOW",R17, IF(H7="VERY LOW",R18,""))))) | R7: TIME IMPACT SCORE | S7: =IF(J2="VERY HIGH",5,IF(J2="HIGH",4,IF(J2="MODERATE",3,IF(J2="LOW",2,IF(J2="VERY LOW",1,"")))))
N8: =IF(H8="VERY HIGH",R14, IF(H8="HIGH",R15, IF(H8="MEDIUM",R16, IF(H8="LOW",R17, IF(H8="VERY LOW",R18,""))))) | R8: OPERATIONS IMPACT SCORE | S8: =IF(K2="VERY HIGH",5,IF(K2="HIGH",4,IF(K2="MODERATE",3,IF(K2="LOW",2,IF(K2="VERY LOW",1,"")))))
I9: =IF(H9="VERY HIGH",R17, IF(H9="HIGH",R18, IF(H9="MEDIUM",R19, IF(H9="LOW",R20, IF(H9="VERY LOW",R21,""))))) | R9: HEALTH SAFETY IMPACT SCORE | S9: =IF(L2="VERY HIGH",5,IF(L2="HIGH",4,IF(L2="MODERATE",3,IF(L2="LOW",2,IF(L2="VERY LOW",1,"")))))
I10: =IF(H10="VERY HIGH",R17, IF(H10="HIGH",R18, IF(H10="MEDIUM",R19, IF(H10="LOW",R20, IF(H10="VERY LOW",R21,""))))) | R10: NATURAL ENVIRONMENT IMPACT SCORE | S10: =IF(M2="VERY HIGH",5,IF(M2="HIGH",4,IF(M2="MODERATE",3,IF(M2="LOW",2,IF(M2="VERY LOW",1,"")))))
R11: BRAND AND REP IMPACT SCORE | S11: =IF(N2="VERY HIGH",5,IF(N2="HIGH",4,IF(N2="MODERATE",3,IF(N2="LOW",2,IF(N2="VERY LOW",1,"")))))
R12: RISK SUM | S12: =SUM(S5:S11) -> 0
R13: ACTIONS
